BEGIN:VCALENDAR
VERSION:2.0
PRODID:-//Deutsche Gesellschaft für Ernährung e. V. - ECPv6.15.20//NONSGML v1.0//EN
CALSCALE:GREGORIAN
METHOD:PUBLISH
X-WR-CALNAME:Deutsche Gesellschaft für Ernährung e. V.
X-ORIGINAL-URL:https://www.dge-niedersachsen.de
X-WR-CALDESC:Veranstaltungen für Deutsche Gesellschaft für Ernährung e. V.
REFRESH-INTERVAL;VALUE=DURATION:PT1H
X-Robots-Tag:noindex
X-PUBLISHED-TTL:PT1H
BEGIN:VTIMEZONE
TZID:Europe/Paris
BEGIN:DAYLIGHT
TZOFFSETFROM:+0100
TZOFFSETTO:+0200
TZNAME:CEST
DTSTART:20240331T010000
END:DAYLIGHT
BEGIN:STANDARD
TZOFFSETFROM:+0200
TZOFFSETTO:+0100
TZNAME:CET
DTSTART:20241027T010000
END:STANDARD
BEGIN:DAYLIGHT
TZOFFSETFROM:+0100
TZOFFSETTO:+0200
TZNAME:CEST
DTSTART:20250330T010000
END:DAYLIGHT
BEGIN:STANDARD
TZOFFSETFROM:+0200
TZOFFSETTO:+0100
TZNAME:CET
DTSTART:20251026T010000
END:STANDARD
BEGIN:DAYLIGHT
TZOFFSETFROM:+0100
TZOFFSETTO:+0200
TZNAME:CEST
DTSTART:20260329T010000
END:DAYLIGHT
BEGIN:STANDARD
TZOFFSETFROM:+0200
TZOFFSETTO:+0100
TZNAME:CET
DTSTART:20261025T010000
END:STANDARD
END:VTIMEZONE
BEGIN:VEVENT
DTSTART;TZID=Europe/Paris:20251009T090000
DTEND;TZID=Europe/Paris:20251009T163000
DTSTAMP:20260424T014001
CREATED:20241212T141842Z
LAST-MODIFIED:20260130T090152Z
UID:8497-1760000400-1760027400@www.dge-niedersachsen.de
SUMMARY:Ernährung bei Long-Covid |  09.10.2025!
DESCRIPTION:ONLINE-Seminar \nErnährung bei Long-Covid\n \nAuch Wochen oder gar Monate nach einer Infektion mit SARS-CoV-2 können noch Beschwerden bestehen oder auftauchen. Das Post/Long- Covid Syndrom\, kann viele verschiedene Organsysteme betreffen. Das tatsächliche Ausmaß der Folgen rückt auch nach Jahren noch viel zu langsam ins Bewusstsein. Doch immer mehr Patient:innen finden den Weg in die Ernährungstherapie. Um für die multiplen Komorbiditäten im Praxisalltag gerüstet zu sein\, werden in diesem Webinar die aktuellen Erkenntnisse dargestellt und die sich daraus ergebenden Möglichkeiten für die Ernährungstherapie erarbeitet. \nInhalte \n– Überblick über bisher bekannte sowie vermutete Folgen einer Covid-19-Infektion\n– betroffene Organsysteme\n– Ernährungsempfehlungen in Rehabilitation und Langzeitbetreuung\n– Risikogruppen für Post/Long-Covid \nMethoden\nVortrag\, Gruppenarbeiten \nReferentin\nM.Sc. oec. troph. Stephanie Mißler\, Braunschweig\, www.eb-missler.de \nZielgruppen\nDiätassistenten\, Diplom-Oecotrophologen\, Diplom-Ernährungswissenschaftler\, Absolventen der Bachelor- und Masterstudiengänge Oecotrophologie/Ernährungswissenschaft (Schwerpunkt „Ernährung“)\n \nTeilnehmerzahl\nmax. 20 \nTermin\n09.10.2025\, 9.00– 16.30 Uhr via ZOOM \nUmfang\n8 Unterrichtseinheiten (UE) à 45 Minuten \nOrt\nONLINE \nGebühr\nDGE-Mitglieder 165 €\nNicht-Mitglieder 180 €\nIm Preis enthalten sind Seminarunterlagen. \nPDF Download \nBild: ©iStock.com/Koshiro Kiyota \nJetzt anmeldenWichtige Hinweise \nAnmeldebestätigung und Bescheinigung\n \nBei Anmeldung wird eine Anmeldebestätigung bzw. die Bestätigung über Aufnahme auf die Warteliste versendet. Erhalten Sie keine Anmeldebestätigung direkt nach dem Abschicken des Online-Formulars\, kontrollieren Sie bitte zunächst Ihren Spam-Ordner. Wenn dort keine Bestätigung eingegangen ist\, schreiben Sie uns zur weiteren Abklärung eine Mail.\nNach erfolgreicher Teilnahme von mind. 80% der Seminardauer erhalten Sie eine Teilnahmebescheinigung mit Angabe der Inhalte und der Anzahl der absolvierten Unterrichtseinheiten per E-Mail. Wir behalten uns vor bei dauerhaft ausgeschalteter Kamera und Nicht-Erreichbarkeit keine Teilnahmebescheinigung auszustellen. Individuelle Absprachen können selbstverständlich getroffen werden. Nach erfolgreicher Teilnahme erhalten Sie eine Teilnahmebescheinigung mit Angabe der Inhalte und der Anzahl der absolvierten Unterrichtseinheiten per E-Mail. \nRechnung\nDie Rechnung erhalten Sie nach dem Seminar von der Verwaltung. Bitte beachten Sie: Dieser Vorgang kann einige Zeit in Anspruch nehmen! Überweisen Sie erst dann die Teilnahmegebühr unter Angabe der Rechnungsnummer. Prüfen Sie die Angaben bei Ihrer Anmeldung zu Titel\, Name und Anschrift\, E-Mail-Adresse sorgfältig auf Fehler und Vollständigkeit. Insbesondere wenn die Rechnung an Ihren Arbeitgeber ausgestellt werden soll ist die Angabe einer korrekten dienstlichen E-Mail-Adresse zwingend erforderlich. Nachträgliche Änderungen und Reklamationen sind sehr zeitintensiv und werden mit 30\,00 € in Rechnung gestellt. \nWartelistenregelung\nWenn ein Seminar ausgebucht ist\, besteht die Möglichkeit\, sich unverbindlich für einen Platz auf der Warteliste anzumelden. Wir benachrichtigen Sie umgehend per E-Mail bei Freiwerden eines Seminarplatzes; kann dieser Platz nicht angenommen werden\, entstehen keine Gebühren. Die Plätze werden in der Reihenfolge des Anmeldedatums vergeben. Die Vergabe erfolgt in der Reihenfolge der Zusagen. \nRücktrittsbedingungen / Ausfall einer Veranstaltung\nBei Rücktritt bis 14 Tage vor Beginn des Seminars wird eine Bearbeitungsgebühr in Höhe von 30€ fällig. Danach ist die Teilnahmegebühr in voller Höhe zu tragen; die Gebühr wird unabhängig vom Grund der Absage fällig. Dieses Risiko kann über eine Reise- oder Seminar-Rücktrittskosten-Versicherung abgesichert werden.\nIn diesem Zeitraum ist die Nennung eines den Zielgruppen entsprechenden Ersatzteilnehmers möglich; eine eigene Anmeldung des Ersatzteilnehmers ist erforderlich. Sollte die DGE die Veranstaltung absagen müssen\, so besteht Anspruch auf volle Rückerstattung der Teilnahmegebühr. Weitergehende Ansprüche sind ausgeschlossen. Die DGE übernimmt keinerlei Haftung für Personen- und Sachschäden. Weitere Informationen finden Sie auf der DGE-Homepage oder im DGE-Fortbildungsprogramm. \nDatenschutz\nIhre Daten sind bei uns in sicheren Händen. Datenschutzhinweise und Nutzungsbedingungen finden Sie in den AGB. \n\nOrganisation\nDGE-Sektion Niedersachsen\,\nHildesheimer Straße 24\, 30169 Hannover\nwww.dge-niedersachsen.de \nAnsprechpartner \nSonja Pöhls\nTel.: 0511 – 544 1038-4\nE-Mail: poehls@dge.de \nStand: 11/2024 – Terminliche\, inhaltliche und preisliche Änderungen behalten wir uns vor.
URL:https://www.dge-niedersachsen.de/event/ernaehrung-bei-long-covid-2025/
LOCATION:Online über Zoom
CATEGORIES:Ernährungsfachkräfte,Online,Seminar für Ernährungsfachkräfte,Seminare
ATTACH;FMTTYPE=image/jpeg:https://www.dge-niedersachsen.de/wp-content/uploads/2023/10/iStock_Koshiro-Kiyota_1445036684.jpg
ORGANIZER;CN="DGE-Sektion Niedersachsen":MAILTO:anmeldung-ni@dge.de
END:VEVENT
END:VCALENDAR