BEGIN:VCALENDAR
VERSION:2.0
PRODID:-//Deutsche Gesellschaft für Ernährung e. V. - ECPv6.15.20//NONSGML v1.0//EN
CALSCALE:GREGORIAN
METHOD:PUBLISH
X-WR-CALNAME:Deutsche Gesellschaft für Ernährung e. V.
X-ORIGINAL-URL:https://www.dge-niedersachsen.de
X-WR-CALDESC:Veranstaltungen für Deutsche Gesellschaft für Ernährung e. V.
REFRESH-INTERVAL;VALUE=DURATION:PT1H
X-Robots-Tag:noindex
X-PUBLISHED-TTL:PT1H
BEGIN:VTIMEZONE
TZID:Europe/Paris
BEGIN:DAYLIGHT
TZOFFSETFROM:+0100
TZOFFSETTO:+0200
TZNAME:CEST
DTSTART:20240331T010000
END:DAYLIGHT
BEGIN:STANDARD
TZOFFSETFROM:+0200
TZOFFSETTO:+0100
TZNAME:CET
DTSTART:20241027T010000
END:STANDARD
BEGIN:DAYLIGHT
TZOFFSETFROM:+0100
TZOFFSETTO:+0200
TZNAME:CEST
DTSTART:20250330T010000
END:DAYLIGHT
BEGIN:STANDARD
TZOFFSETFROM:+0200
TZOFFSETTO:+0100
TZNAME:CET
DTSTART:20251026T010000
END:STANDARD
BEGIN:DAYLIGHT
TZOFFSETFROM:+0100
TZOFFSETTO:+0200
TZNAME:CEST
DTSTART:20260329T010000
END:DAYLIGHT
BEGIN:STANDARD
TZOFFSETFROM:+0200
TZOFFSETTO:+0100
TZNAME:CET
DTSTART:20261025T010000
END:STANDARD
END:VTIMEZONE
BEGIN:VEVENT
DTSTART;TZID=Europe/Paris:20251118T140000
DTEND;TZID=Europe/Paris:20251118T173000
DTSTAMP:20260424T030740
CREATED:20250320T094953Z
LAST-MODIFIED:20251120T151431Z
UID:8747-1763474400-1763487000@www.dge-niedersachsen.de
SUMMARY:14. Kita-Fachtagung Tischlein deck dich | Kulturell\, kunterbunt und kommunikativ
DESCRIPTION:ONLINE-Fachtagung\n14. Tischlein deck dich „Kulturell\, kunterbunt und kommunikativ„\nBunte Vielfalt in der Kita schmecken und entdecken\n\nUnsere Gesellschaft ist vielfältig – und das spiegelt sich auch in unseren Kitas wider. Kinder bringen unterschiedliche kulturelle Hintergründe\, Sprachen und Traditionen mit\, die sich auch in der Ernährung und im Miteinander zeigen. Diese Vielfalt bietet eine große Chance: Sie kann das Zusammenleben bereichern\, die interkulturelle Kompetenz stärken und neue Bildungsprozesse anregen. Doch wie können Fachkräfte in der Kita eine offene und wertschätzende Atmosphäre schaffen\, in der sich alle Kinder und Familien willkommen fühlen? Und wie lässt sich Ernährung als Brücke nutzen\, um den Austausch zu fördern und Teilhabe zu ermöglichen? \nDie diesjährige Fachtagung Tischlein deck dich lädt dazu ein\, sich mit kultursensibler Ernährungsbildung und der Bedeutung von Zugehörigkeit in der Kita auseinanderzusetzen. In Vorträgen und Workshops geben Expertinnen und Experten Impulse zu Fragen wie: \n– Wie können wir die unterschiedlichen Esskulturen in der Kita wertschätzen und erfahrbar machen?\n– Welche Rolle spielt Ernährung für Identität und Gemeinschaft?\n– Wie können wir durch gemeinsames Essen und Bewegung Diskriminierung abbauen und Inklusion fördern? \nWir freuen uns auf einen spannenden Austausch! \nProgramm \n14:00 – 14:15 Uhr\nAnkommen und Begrüßung\nGrußworte der Nds. Staatssekretärin Frauke Patzke \n14:15 – 15:00 Uhr\nEinführungsvortrag\nFamilienkulturen wertschätzen\, Zugehörigkeit stärken\, Bildungsprozesse anregen\nPetra Wagner\, ehem. Leiterin Fachstelle Kinderwelten \n14:45 – 15:00\nBewegte Pause \n15:00 – 16:00 Uhr\nVortrag und Austausch\nKultursensible Ernährungsbildung – ein Beitrag zur Entwicklung von interkultureller Kompetenz\nSonja Pöhls\, DGE-Sektion Niedersachsen e.V. \n16:00 – 16:10\nPause \n16:10 – 17:10\nWorkshops\nDiskriminierungen in der pädagogischen Praxis erkennen und abbauen\nDen Begriff Diskriminierung verstehen und mögliche Interventionskonzepte kennenlernen\, um mehr Handlungsfähigkeit in diskriminierenden Situationen zu gewinnen.\nPetra Wagner\, ehemalige Leiterin der Fachstelle Kinderwelten \nAndere Länder\, andere Küchen – Mit Milchprodukten die Welt entdecken\nKefir\, Labneh\, Ayran und Co. Milchprodukte sind in vielen Ländern Teil der Esskultur\, wir wollen sie gemeinsam entdecken. Im Workshop geht es darum\, wie über Essen und Trinken ein interkultureller Zugang zu Kindern gelingen kann\, dazu gehört z.B. ein vertrauter Geschmack.\nCharlotte Bauch\, Landesvereinigung der Milchwirtschaft Nds. \nEmotionen im Griff – Selbstregulation fördern durch Bewegung\, Spiel und Sport\nDie Emotionsregulation – Herausfordernd und zugleich eine entscheidende Kompetenz. Doch wie können wir Kindern helfen\, einen „kühle(re)n Kopf zu bewahren“ und ihre exekutiven Funktionen zu verstehen und zu fördern? Hier geht’s darum\, Impulse und geistige Prozesse\, die für das Verhalten und die Aufmerksamkeit zuständig sind\, zu unterstützen.\nMaren Utischill\, Bildungsreferentin und medienpädagogische Beraterin \n17:15 – 17:30\nAbschluss\, Evaluation und Austausch \nProgramm zum Download \nEine Kooperationsveranstaltung der DGE-Sektion Niedersachsen mit der Landesvereinigung für Gesundheit und Akademie für Sozialmedizin e.V.\, Landessportbund Niedersachsen e.V. und der Landesvereinigung der Milchwirtschaft Niedersachsen e.V. \nModeration:\nDörthe Hennemann\, DGE-Sektion Niedersachsen\nLarissa Federmann\, Landesvereinigung für Gesundheit und Akademie für Sozialmedizin Niedersachsen e. V. \nZielgruppe\nDie Veranstaltung richtet sich an Erziehende\, Multiplikator*innen aus den Bereichen Pädagogik\, Ernährung\, Sport\, Bewegung und Gesundheit sowie an Elternvertretende. \nVeranstaltungsort: online über ZOOM \nGebühr: kostenlos\n \nOnline-Anmeldung und Organisation\nLandesvereinigung der Milchwirtschaft Niedersachsen e.V.Seelhorststraße 4\, 30175 HannoverTel. 0511 / 85653-21Fax 0511 / 85653-98licher@milchland.dewww.milchland.de/tischlein \nBild: ©Maja Schültingkemper
URL:https://www.dge-niedersachsen.de/event/13-kita-fachtagung-tischlein-deck-dich-kulturell-kunterbunt-und-kommunikativ/
LOCATION:Online über Zoom
CATEGORIES:ABGELAUFEN,Fachtagungen,Online
ATTACH;FMTTYPE=image/jpeg:https://www.dge-niedersachsen.de/wp-content/uploads/2022/02/DSC_9547-scaled-e1644409500692.jpg
ORGANIZER;CN="DGE-Sektion Niedersachsen":MAILTO:anmeldung-ni@dge.de
END:VEVENT
END:VCALENDAR