BEGIN:VCALENDAR
VERSION:2.0
PRODID:-//Deutsche Gesellschaft für Ernährung e. V. - ECPv6.15.20//NONSGML v1.0//EN
CALSCALE:GREGORIAN
METHOD:PUBLISH
X-WR-CALNAME:Deutsche Gesellschaft für Ernährung e. V.
X-ORIGINAL-URL:https://www.dge-niedersachsen.de
X-WR-CALDESC:Veranstaltungen für Deutsche Gesellschaft für Ernährung e. V.
REFRESH-INTERVAL;VALUE=DURATION:PT1H
X-Robots-Tag:noindex
X-PUBLISHED-TTL:PT1H
BEGIN:VTIMEZONE
TZID:Europe/Paris
BEGIN:DAYLIGHT
TZOFFSETFROM:+0100
TZOFFSETTO:+0200
TZNAME:CEST
DTSTART:20250330T010000
END:DAYLIGHT
BEGIN:STANDARD
TZOFFSETFROM:+0200
TZOFFSETTO:+0100
TZNAME:CET
DTSTART:20251026T010000
END:STANDARD
BEGIN:DAYLIGHT
TZOFFSETFROM:+0100
TZOFFSETTO:+0200
TZNAME:CEST
DTSTART:20260329T010000
END:DAYLIGHT
BEGIN:STANDARD
TZOFFSETFROM:+0200
TZOFFSETTO:+0100
TZNAME:CET
DTSTART:20261025T010000
END:STANDARD
BEGIN:DAYLIGHT
TZOFFSETFROM:+0100
TZOFFSETTO:+0200
TZNAME:CEST
DTSTART:20270328T010000
END:DAYLIGHT
BEGIN:STANDARD
TZOFFSETFROM:+0200
TZOFFSETTO:+0100
TZNAME:CET
DTSTART:20271031T010000
END:STANDARD
END:VTIMEZONE
BEGIN:VEVENT
DTSTART;TZID=Europe/Paris:20260626T140000
DTEND;TZID=Europe/Paris:20260627T121500
DTSTAMP:20260424T082254
CREATED:20241213T145838Z
LAST-MODIFIED:20260326T151421Z
UID:8508-1782482400-1782562500@www.dge-niedersachsen.de
SUMMARY:Körperbild und Essverhalten | 26.+27.06.2026 I 2 halbe Tage
DESCRIPTION:ONLINE-Seminar (2 Halbtage!) \n„Körperbild und Essverhalten“ \nZielsetzung\nDas Seminar bietet eine theoretische und empirische Perspektive auf die neuesten Forschungsansätze und -ergebnisse zu den Themen Körperbild und Essverhalten. Dabei werden unter anderem aktuelle Theorien zur Entstehung und Aufrechterhaltung von Körperunzufriedenheit und gestörtem Essverhalten diskutiert. Zudem erhalten die Teilnehmer*innen Einblicke in aktuelle Konzepte wie Body Positivity und Intuitives Essverhalten. Das Ziel des Seminars ist es\, den Teilnehmer*innen ein umfassendes Verständnis für die komplexen Zusammenhänge zwischen Körper und Essverhalten zu vermitteln und sie zu ermutigen\, gesellschaftliche Einflüsse kritisch zu reflektieren. Darüber hinaus lernen die Teilnehmenden psychologische Testverfahren zu Körperbild und Essverhalten kennen und haben die Möglichkeit\, diese in praktischen Übungen anzuwenden. \nSeminarinhalte\n• Neues aus der Forschung zu Körperbild und Essverhalten\n• Body Positivity und Intuitives Essverhalten\n• Zusammenhänge zwischen Körper und Essverhalten\n• Kennenlernen und Anwenden von psychologischen Testverfahren zum Thema \nMethoden\nVorträge mit Gruppenarbeiten\, Austausch\, Diskussion und Übungen \nZielgruppen\nDiätassistent*innen\, Diplom-Oecotropholog*innen\, Diplom-Ernährungswissenschaftler*innen\, Absolventen der Bachelor- und Masterstudiengänge Oecotrophologie/Ernährungswissenschaft (Schwerpunkt „Ernährung“) \nReferentin\nDr. phil.\, M.S. psych. Nicole Behrend\, Beratungspsychologie Universität Potsdam \nTermin\n26.+27.06.2026\, Fr. 14.00 – 17.15 Uhr\, Sa. 09.00 – 12.15 Uhr via ZOOM \nTeilnehmende\nmax. 24 \nUmfang\n8 Unterrichtseinheiten (UE) à 45 Minuten \nOrt\nONLINE \nGebühr\nDGE-Mitglieder 165 €\nNicht-Mitglieder 180 €\nIm Preis enthalten sind Seminarunterlagen. \nPDF Download \nBild: ©iStock.com/anouchka \nJetzt anmeldenWichtige Hinweise \nAnmeldebestätigung und Bescheinigung \nBei Anmeldung wird eine Anmeldebestätigung bzw. die Bestätigung über Aufnahme auf die Warteliste versendet. Erhalten Sie keine Anmeldebestätigung direkt nach dem Abschicken des Online-Formulars\, kontrollieren Sie bitte zunächst Ihren Spam-Ordner. Wenn dort keine Bestätigung eingegangen ist\, schreiben Sie uns zur weiteren Abklärung eine Mail.\nNach erfolgreicher Teilnahme von mind. 80% der Seminardauer erhalten Sie eine Teilnahmebescheinigung mit Angabe der Inhalte und der Anzahl der absolvierten Unterrichtseinheiten per E-Mail. Wir behalten uns vor bei dauerhaft ausgeschalteter Kamera und Nicht-Erreichbarkeit keine Teilnahmebescheinigung auszustellen. Individuelle Absprachen können selbstverständlich getroffen werden. Nach erfolgreicher Teilnahme erhalten Sie eine Teilnahmebescheinigung mit Angabe der Inhalte und der Anzahl der absolvierten Unterrichtseinheiten per E-Mail. \nRechnung\nDie Rechnung erhalten Sie nach dem Seminar von der Verwaltung. Bitte beachten Sie: Dieser Vorgang kann einige Zeit in Anspruch nehmen! Überweisen Sie erst dann die Teilnahmegebühr unter Angabe der Rechnungsnummer. Prüfen Sie die Angaben bei Ihrer Anmeldung zu Titel\, Name und Anschrift\, E-Mail-Adresse sorgfältig auf Fehler und Vollständigkeit. Insbesondere wenn die Rechnung an Ihren Arbeitgeber ausgestellt werden soll ist die Angabe einer korrekten dienstlichen E-Mail-Adresse zwingend erforderlich. Nachträgliche Änderungen und Reklamationen sind sehr zeitintensiv und werden mit 30\,00 € in Rechnung gestellt. \nWartelistenregelung\nWenn ein Seminar ausgebucht ist\, besteht die Möglichkeit\, sich unverbindlich für einen Platz auf der Warteliste anzumelden. Wir benachrichtigen Sie umgehend per E-Mail bei Freiwerden eines Seminarplatzes; kann dieser Platz nicht angenommen werden\, entstehen keine Gebühren. Die Plätze werden in der Reihenfolge des Anmeldedatums vergeben. Die Vergabe erfolgt in der Reihenfolge der Zusagen. \nRücktrittsbedingungen / Ausfall einer Veranstaltung\nBei Rücktritt bis 14 Tage vor Beginn des Seminars wird eine Bearbeitungsgebühr in Höhe von 40\,00 € fällig. Danach ist die Teilnahmegebühr in voller Höhe zu tragen; die Gebühr wird unabhängig vom Grund der Absage fällig. Dieses Risiko kann über eine Reise- oder Seminar-Rücktrittskosten-Versicherung abgesichert werden. In diesem Zeitraum ist die Nennung eines den Zielgruppen entsprechenden Ersatzteilnehmers möglich; eine eigene Anmeldung des\nErsatzteilnehmers ist erforderlich. Sollte die DGE die Veranstaltung absagen müssen\, so besteht Anspruch auf volle Rückerstattung der Teilnahmegebühr. Weitergehende Ansprüche sind ausgeschlossen. Die DGE übernimmt keinerlei Haftung für Personen- und Sachschäden. Weitere Informationen finden Sie auf der DGE-Homepage oder im DGE-Fortbildungsprogramm. \nTechnische Voraussetzungen für Online-Veranstaltungen\nSie benötigen einen PC mit LAN-Zugang\, eine Kamera und ein Mikrofon. Ein Zugang über ein Tablet ist auch möglich\, wir empfehlen jedoch die Teilnahme mit dem Laptop oder Notebook. Online-Seminare finden mit der Videokonferenzsoftware „Zoom“ statt. Weitere ggf. verwendete Tools sind Padlet\, Mentimeter\, Dashboard und Jitsi. \nVerbot von Aufzeichnungen und Veröffentlichungen\nEs gilt das Verbot\, Screenshots oder Aufzeichnungen jedweder Art anzufertigen\, sowie ein Verbot von Veröffentlichung jedweder Inhalte eines Online-Seminars im Internet oder an anderer Stelle. \nDatenschutz\nIhre Daten sind bei uns in sicheren Händen. Die Datenschutzhinweise des Veranstalters finden Sie in den AGBs. \n\nOrganisation\nDGE-Sektion Niedersachsen\,\nHildesheimer Straße 24\, 30169 Hannover\nwww.dge-niedersachsen.de \nAnsprechpartner \nSonja Pöhls\nTel.: 0511 – 544 1038-4\nE-Mail: poehls@dge.de \nStand: 11/2025 – Terminliche\, inhaltliche und preisliche Änderungen behalten wir uns vor.
URL:https://www.dge-niedersachsen.de/event/koerperbild-und-essverhalten-2026/
LOCATION:Online über Zoom
CATEGORIES:Ernährungsfachkräfte,Online,Seminar für Ernährungsfachkräfte,Seminare
ATTACH;FMTTYPE=image/jpeg:https://www.dge-niedersachsen.de/wp-content/uploads/2025/12/iStock-2029907259-scaled.jpg
ORGANIZER;CN="DGE-Sektion Niedersachsen":MAILTO:anmeldung-ni@dge.de
END:VEVENT
END:VCALENDAR