BEGIN:VCALENDAR
VERSION:2.0
PRODID:-//Deutsche Gesellschaft für Ernährung e. V. - ECPv6.15.20//NONSGML v1.0//EN
CALSCALE:GREGORIAN
METHOD:PUBLISH
X-ORIGINAL-URL:https://www.dge-niedersachsen.de
X-WR-CALDESC:Veranstaltungen für Deutsche Gesellschaft für Ernährung e. V.
REFRESH-INTERVAL;VALUE=DURATION:PT1H
X-Robots-Tag:noindex
X-PUBLISHED-TTL:PT1H
BEGIN:VTIMEZONE
TZID:Europe/Paris
BEGIN:DAYLIGHT
TZOFFSETFROM:+0100
TZOFFSETTO:+0200
TZNAME:CEST
DTSTART:20250330T010000
END:DAYLIGHT
BEGIN:STANDARD
TZOFFSETFROM:+0200
TZOFFSETTO:+0100
TZNAME:CET
DTSTART:20251026T010000
END:STANDARD
BEGIN:DAYLIGHT
TZOFFSETFROM:+0100
TZOFFSETTO:+0200
TZNAME:CEST
DTSTART:20260329T010000
END:DAYLIGHT
BEGIN:STANDARD
TZOFFSETFROM:+0200
TZOFFSETTO:+0100
TZNAME:CET
DTSTART:20261025T010000
END:STANDARD
BEGIN:DAYLIGHT
TZOFFSETFROM:+0100
TZOFFSETTO:+0200
TZNAME:CEST
DTSTART:20270328T010000
END:DAYLIGHT
BEGIN:STANDARD
TZOFFSETFROM:+0200
TZOFFSETTO:+0100
TZNAME:CET
DTSTART:20271031T010000
END:STANDARD
END:VTIMEZONE
BEGIN:VEVENT
DTSTART;TZID=Europe/Paris:20260505T090000
DTEND;TZID=Europe/Paris:20260505T163000
DTSTAMP:20260424T053635
CREATED:20241212T084324Z
LAST-MODIFIED:20260224T150702Z
UID:8448-1777971600-1777998600@www.dge-niedersachsen.de
SUMMARY:Ernährung für Kinder - mehr als Essen und Trinken | 2026
DESCRIPTION:ONLINE-Seminar\n \nFortbildungsreihe „Ernährung von Kindern in KiTa und Co.“ | Basis-Modul \nZielsetzung \nJedes Kind is(s)t anders – mit mal mehr oder weniger Appetit. Für Tageseinrichtungen bedeutet das\, täglich auf neue Bedürfnisse\, Vorlieben und Entwicklungsstände einzugehen. Dieses Seminar vermittelt\, welche Anforderungen eine vollwertige und kindgerechte Ernährung erfüllen muss. Dabei geht es nicht nur um gesunde Lebensmittel\, sondern auch um die Frage\, wie Kinder durch gesundes Essen angesprochen werden können und wie sie neue Speisen kennenlernen. Welche alternativen Kostformen sind für Kinder geeignet und liefern ausreichend Nährstoffe\, um einen erhöhten Bedarf durch Wachstum und Entwicklung sicherzustellen? Wie kann einem Nährstoffmangel vorgebeugt werden? Es werden alltagsnahe Möglichkeiten aufgezeigt\, um in der Einrichtung und im Familientag dauerhaft die Basis für einen gesundheitsförderlichen Lebensstil zu legen. \nSeminarinhalte\n– Grundlagen kindgerechter Ernährung\n– Ess-Entwicklung und Ess-Lernumgebung\n– Alternative Ernährungsformen im Kindesalter\n– Wie Kinder durch gesundes Essen angesprochen werden können\n– Handlungsempfehlung für die Praxis mit den DGE – Qualitätsstandards für die Verpflegung in Tageseinrichtungen für Kinder \nMethoden\nVortrag mit Gruppenarbeit\, Übungen \nZielgruppen\nPädagogische Fachkräfte in KiTa\, Krippe und Hort\, Küchen- und Hauswirtschaftsleitungen\, Ernährungsfachkräfte sowie Träger und Multiplikatoren \nReferentin\nDipl. oec. troph. Sonja Pöhls\, DGE NI \nTermin\n05.05.2026\, 09.00 – 16.30 Uhr via ZOOM \nSeminarumfang:\n8 Unterrichtseinheiten (UE) à 45 Minuten \nTeilnehmerzahl\nmax. 20 \nGebühr\nDGE-Mitglieder 140\,00 €\nNicht-Mitglieder 155\,00 € \nIm Preis enthalten sind die Seminarunterlagen. \nPDF Download \nBild: ©iStock.com/romrodinka \nJetzt anmeldenWichtige Hinweise \nAnmeldebestätigung und Bescheinigungen \nBei Anmeldung wird eine Anmeldebestätigung bzw. die Bestätigung über Aufnahme auf die Warteliste versendet. Erhalten Sie keine Anmeldebestätigung direkt nach dem Abschicken des Online-Formulars\, kontrollieren Sie bitte zunächst Ihren Spam-Ordner. Wenn dort keine Bestätigung eingegangen ist\, schreiben Sie uns zur weiteren Abklärung gerne eine Mail. Nach erfolgreicher Teilnahme von mind. 80 % der Seminardauer erhalten Sie eine Teilnahmebescheinigung mit Angabe der Inhalte und der Anzahl der absolvierten Unterrichtseinheiten per E-Mail. Wir behalten uns vor bei dauerhaft ausgeschalteter Kamera und Nicht-Erreichbarkeit keine Teilnahmebescheinigung auszustellen. Individuelle Absprachen können selbstverständlich getroffen werden. \nDie Anzahl der Fortbildungspunkte erfragen Sie bitte direkt bei Ihrem Berufsverband/Zertifikatsgeber. \nRechnung\nDie Rechnung erhalten Sie nach dem Seminar von der Verwaltung. Bitte überweisen Sie erst dann die Teilnahmegebühr unter Angabe der Rechnungsnummer. Bitte prüfen Sie die Angaben bei Ihrer Anmeldung zu Titel\, Name und Anschrift sorgfältig auf Fehler und Vollständigkeit. Insbesondere wenn die Rechnung an Ihren Arbeitgeber ausgestellt werden soll\, ist die Angabe einer dienstlichen E-Mail zwingend notwendig. Nachträgliche Änderungen und Reklamationen sind sehr zeitintensiv und werden mit 30\,00 € in Rechnung gestellt. \nRücktrittsbedingungen / Ausfall einer Veranstaltung \nBei Rücktritt bis 14 Tage vor Beginn des Seminars wird eine Bearbeitungsgebühr in Höhe von 40\,00 € fällig. Danach ist die Teilnahmegebühr in voller Höhe zu tragen; die Gebühr wird unabhängig vom Grund der Absage fällig. Dieses Risiko kann über eine Reise- oder Seminar-Rücktrittskosten-Versicherung abgesichert werden. In diesem Zeitraum ist die Nennung eines den Zielgruppen entsprechenden Ersatzteilnehmers möglich; eine eigene Anmeldung des Ersatzteilnehmers ist erforderlich. Sollte die DGE die Veranstaltung absagen müssen\, so besteht Anspruch auf volle Rückerstattung der Teilnahmegebühr. Weitergehende Ansprüche sind ausgeschlossen. Die DGE übernimmt keinerlei Haftung für Personen- und Sachschäden. Weitere Informationen finden Sie auf der DGE-Homepage oder im DGE-Fortbildungsprogramm. \nWartelistenregelung\nWenn ein Seminar ausgebucht ist\, besteht die Möglichkeit\, sich unverbindlich für einen Platz auf der Warteliste anzumelden. Wir benachrichtigen Sie umgehend per E-Mail bei Freiwerden eines Seminarplatzes; kann dieser Platz nicht angenommen werden\, entstehen keine Gebühren. Die Plätze werden in der Reihenfolge des Anmeldedatums vergeben. Die Vergabe erfolgt in der Reihenfolge der Zusagen. \nTechnische Voraussetzungen für Online-Veranstaltungen\nSie benötigen einen PC mit LAN-Zugang\, eine Kamera und ein Mikrofon. Ein Zugang über ein Tablet ist auch möglich\, wir empfehlen jedoch die Teilnahme mit dem Laptop oder Notebook. Online-Seminare finden mit der Videokonferenzsoftware „Zoom“ statt. Weitere ggf. verwendete Tools sind Padlet\, Mentimeter\, Dashboard und Jitsi. \nVerbot von Aufzeichnungen und Veröffentlichungen\nEs gilt das Verbot\, Screenshots oder Aufzeichnungen jedweder Art anzufertigen\, sowie ein Verbot von Veröffentlichung jedweder Inhalte eines Online-Seminars im Internet oder an anderer Stelle. \nDatenschutz\nIhre Daten sind bei uns in sicheren Händen. Die Datenschutzhinweise des Veranstalters finden Sie in den AGBs. \n\nOnline-Fortbildungsreihe „Ernährung von Kinder in Kita und Co.“ \nDie 8-teilige Fortbildungsreihe richtet sich an pädagogische Fachkräfte in KiTa\, Krippe\, Küchenleiter*Innen\, Hauswirtschaftsleiter*Innen\, Ernährungsfachkräfte\, die in diesen Bereichen tätig sind sowie an Träger und Multiplikatoren. Die Module sind einzeln oder als ganzer Block buchbar. Nehmen Sie an den 4 Basis-Modulen und mind. 2 Wahlmodulen teil\, erhalten Sie zum Abschluss ein Zertifikat. Auf den Preis wird dann ein 10%iger Nachlass gewährt werden. \nTermine 2026 \nBasis-Modul 1 | Ein Speiseplan für alle: 14. April\nBasis-Modul 2 | Ernährung für Kinder – mehr als Essen und Trinken: 05.Mai\nBasis-Modul 3 | Gesundheit fördern mit Ernährungsbildung: 28. Mai\nBasis-Modul 4 | Kommunikation für einen gelungenen Essalltag: 15. Juni \nWahl-Modul 1 | Kultursensible Ernährungsbildung: 19. Mai\nWahl-Modul 2 | Starke Kinder – starke Zukunft: Resilienzentwicklung fördern: 08. Juni\nWahl-Modul 3 | Adipöse Kinder und deren Familien: 02. Juni\nWahl-Modul 4 | Vom Suppenkasper und Picky Eatern – Essstörungen im Kindesalter: 23. Juni \n \nOrganisation\nDGE-Sektion Niedersachsen\,\nHildesheimer Straße 24\, 30169 Hannover\nwww.dge-niedersachsen.de \nAnsprechpartnerin\nSonja Pöhls\nTel.: 0511 – 544 1038-4\nE-Mail: poehls@dge.de \nStand: 11/2025 – Terminliche\, inhaltliche und preisliche Änderungen behalten wir uns vor.
URL:https://www.dge-niedersachsen.de/event/ernaehrung-fuer-kinder-mehr-als-essen-und-trinken-2026/
LOCATION:Online über Zoom
CATEGORIES:Kita Fortbildungsreihe | Basismodul,Online,Seminar für Ernährungsfachkräfte,Seminare
ATTACH;FMTTYPE=image/jpeg:https://www.dge-niedersachsen.de/wp-content/uploads/2022/02/Kind-isst-Suppe_iStock-1273274324-scaled.jpg
ORGANIZER;CN="DGE-Sektion Niedersachsen":MAILTO:anmeldung-ni@dge.de
END:VEVENT
BEGIN:VEVENT
DTSTART;TZID=Europe/Paris:20260519T090000
DTEND;TZID=Europe/Paris:20260519T163000
DTSTAMP:20260424T053635
CREATED:20241212T084421Z
LAST-MODIFIED:20260224T150625Z
UID:8427-1779181200-1779208200@www.dge-niedersachsen.de
SUMMARY:Kultursensible Ernährungsbildung in KiTa und Beratung | 2026
DESCRIPTION:ONLINE-Seminar\n \nDieses Seminar kann als Wahl-Modul der Fortbildungsreihe „Ernährung von Kindern in KiTa und Co“ gewertet werden. \nZielsetzung \nIm Alltag begegnen Fachkräfte täglich einer großen kulturellen Vielfalt. Essgewohnheiten\, Familienrituale\, religiöse Speisevorschriften oder der Umgang mit gemeinsamen Mahlzeiten unterscheiden sich stark – und bieten gleichzeitig wertvolle Chancen. Durch kultursensibles Denken und Handeln kann Missverständnissen und Verständigungsschwierigkeiten vorgebeugt und geeignete Strategien entwickelt werden. Die Teilnehmenden erfahren in dem Seminar\, wie sie in ihren jeweiligen beruflichen Tätigkeitsfeldern kultursensibel und alltagsnah arbeiten können. Sie erhalten Hintergrundwissen\, konkrete Methoden und Materialien\, um Ess- und Ernährungssituationen kultursensibel zu begleiten. \nSeminarinhalte\n– Grundlagen kultureller Vielfalt\n– Bedeutung traditioneller Lebensmittel\, religiöser Speisevorschriften und Zubereitungsmethoden\n– Reflexion eigener kultureller Prägungen am Beispiel von Essgeschichte und Esskultur\n– Arbeit an (mitgebrachten) Fallbeispielen von irritierenden Situationen\n– Transfer von kultursensibler Ernährungsbildung in den eigenen beruflichen Kontext\n \nMethoden\nVortrag mit Gruppenarbeit\, Rollenspiel und Übungen \nZielgruppen \nErnährungsfachkräfte\, Pädagogische Fachkräfte\, Küchen- und Hauswirtschaftsleitungen sowie Träger und Multiplikatoren \nReferentin\nDipl. oec. troph. Sonja Pöhls\, DGE NI \nTermin\n19.05.2026\, 09.00 – 16.30 Uhr via ZOOM \nSeminarumfang:\n8 Unterrichtseinheiten (UE) à 45 Minuten \nTeilnehmerzahl\nmax. 20 \nGebühr\nDGE-Mitglieder 140\,00 €\nNicht-Mitglieder 155\,00 € \nPDF Download \nBild: ©HalfPoint/Bigstock.com \nJetzt anmeldenWichtige Hinweise \nAnmeldebestätigung und Bescheinigung \nBei Anmeldung wird eine Anmeldebestätigung bzw. die Bestätigung über Aufnahme auf die Warteliste versendet. Erhalten Sie keine Anmeldebestätigung direkt nach dem Abschicken des Online-Formulars\, kontrollieren Sie bitte zunächst Ihren Spam-Ordner. Wenn dort keine Bestätigung eingegangen ist\, schreiben Sie uns zur weiteren Abklärung eine Mail.\nNach erfolgreicher Teilnahme von mind. 80% der Seminardauer erhalten Sie eine Teilnahmebescheinigung mit Angabe der Inhalte und der Anzahl der absolvierten Unterrichtseinheiten per E-Mail. Wir behalten uns vor bei dauerhaft ausgeschalteter Kamera und Nicht-Erreichbarkeit keine Teilnahmebescheinigung auszustellen. Individuelle Absprachen können selbstverständlich getroffen werden. Nach erfolgreicher Teilnahme erhalten Sie eine Teilnahmebescheinigung mit Angabe der Inhalte und der Anzahl der absolvierten Unterrichtseinheiten per E-Mail. \nRechnung\nDie Rechnung erhalten Sie nach dem Seminar von der Verwaltung. Bitte beachten Sie: Dieser Vorgang kann einige Zeit in Anspruch nehmen! Überweisen Sie erst dann die Teilnahmegebühr unter Angabe der Rechnungsnummer. Prüfen Sie die Angaben bei Ihrer Anmeldung zu Titel\, Name und Anschrift\, E-Mail-Adresse sorgfältig auf Fehler und Vollständigkeit. Insbesondere wenn die Rechnung an Ihren Arbeitgeber ausgestellt werden soll ist die Angabe einer korrekten dienstlichen E-Mail-Adresse zwingend erforderlich. Nachträgliche Änderungen und Reklamationen sind sehr zeitintensiv und werden mit 30\,00 € in Rechnung gestellt. \nWartelistenregelung\nWenn ein Seminar ausgebucht ist\, besteht die Möglichkeit\, sich unverbindlich für einen Platz auf der Warteliste anzumelden. Wir benachrichtigen Sie umgehend per E-Mail bei Freiwerden eines Seminarplatzes; kann dieser Platz nicht angenommen werden\, entstehen keine Gebühren. Die Plätze werden in der Reihenfolge des Anmeldedatums vergeben. Die Vergabe erfolgt in der Reihenfolge der Zusagen. \nRücktrittsbedingungen / Ausfall einer Veranstaltung\nBei Rücktritt bis 14 Tage vor Beginn des Seminars wird eine Bearbeitungsgebühr in Höhe von 40\,00 € fällig. Danach ist die Teilnahmegebühr in voller Höhe zu tragen; die Gebühr wird unabhängig vom Grund der Absage fällig. Dieses Risiko kann über eine Reise- oder Seminar-Rücktrittskosten-Versicherung abgesichert werden. In diesem Zeitraum ist die Nennung eines den Zielgruppen entsprechenden Ersatzteilnehmers möglich; eine eigene Anmeldung des\nErsatzteilnehmers ist erforderlich. Sollte die DGE die Veranstaltung absagen müssen\, so besteht Anspruch auf volle Rückerstattung der Teilnahmegebühr. Weitergehende Ansprüche sind ausgeschlossen. Die DGE übernimmt keinerlei Haftung für Personen- und Sachschäden. Weitere Informationen finden Sie auf der DGE-Homepage oder im DGE-Fortbildungsprogramm. \nTechnische Voraussetzungen für Online-Veranstaltungen\nSie benötigen einen PC mit LAN-Zugang\, eine Kamera und ein Mikrofon. Ein Zugang über ein Tablet ist auch möglich\, wir empfehlen jedoch die Teilnahme mit dem Laptop oder Notebook. Online-Seminare finden mit der Videokonferenzsoftware „Zoom“ statt. Weitere ggf. verwendete Tools sind Padlet\, Mentimeter\, Dashboard und Jitsi. \nVerbot von Aufzeichnungen und Veröffentlichungen\nEs gilt das Verbot\, Screenshots oder Aufzeichnungen jedweder Art anzufertigen\, sowie ein Verbot von Veröffentlichung jedweder Inhalte eines Online-Seminars im Internet oder an anderer Stelle. \nDatenschutz\nIhre Daten sind bei uns in sicheren Händen. Die Datenschutzhinweise des Veranstalters finden Sie in den AGBs. \n\nOnline-Fortbildungsreihe „Ernährung von Kinder in Kita und Co.“ \nDie 8-teilige Fortbildungsreihe richtet sich an pädagogische Fachkräfte in KiTa\, Krippe\, Küchenleiter*Innen\, Hauswirtschaftsleiter*Innen\, Ernährungsfachkräfte\, die in diesen Bereichen tätig sind sowie an Träger und Multiplikatoren. Die Module sind einzeln  oder als ganzer Block buchbar. Nehmen Sie an den 4 Basis-Modulen und mind. 2 Wahlmodulen teil\, erhalten Sie zum Abschluss ein Zertifikat. Auf den Preis wird dann ein 10%iger Nachlass gewährt werden. \nTermine 2026 \nBasis-Modul 1 | Ein Speiseplan für alle: 14. April\nBasis-Modul 2 | Ernährung für Kinder – mehr als Essen und Trinken: 05.Mai\nBasis-Modul 3 | Gesundheit fördern mit Ernährungsbildung: 28. Mai\nBasis-Modul 4 | Kommunikation für einen gelungenen Essalltag: 15. Juni \nWahl-Modul 1 | Kultursensible Ernährungsbildung: 19. Mai\nWahl-Modul 2 | Starke Kinder – starke Zukunft: Resilienzentwicklung fördern: 08. Juni\nWahl-Modul 3 | Adipöse Kinder und deren Familien: 02. Juni\nWahl-Modul 4 | Vom Suppenkasper und Picky Eatern – Essstörungen im Kindesalter: 23. Juni \n \nOrganisation\nDGE-Sektion Niedersachsen\,\nHildesheimer Straße 24\, 30169 Hannover\nwww.dge-niedersachsen.de \nAnsprechpartnerin\nSonja Pöhls\nTel.: 0511 – 544 1038-4\nE-Mail: poehls@dge.de \nStand: 11/2025 – Terminliche\, inhaltliche und preisliche Änderungen behalten wir uns vor.
URL:https://www.dge-niedersachsen.de/event/kultursensible-ernaehrungsbildung-in-kita-und-beratung-2026/
LOCATION:Online über Zoom
CATEGORIES:Kita Fortbildungsreihe | Wahlmodul,Online,Seminar für Ernährungsfachkräfte,Seminare
ATTACH;FMTTYPE=image/jpeg:https://www.dge-niedersachsen.de/wp-content/uploads/2022/02/Interkulturell_Kita_bigstock-Group-Of-Small-Nursery-School-429948728-e1644826857636.jpg
ORGANIZER;CN="DGE-Sektion Niedersachsen":MAILTO:anmeldung-ni@dge.de
END:VEVENT
BEGIN:VEVENT
DTSTART;TZID=Europe/Paris:20260528T090000
DTEND;TZID=Europe/Paris:20260528T163000
DTSTAMP:20260424T053635
CREATED:20241212T083339Z
LAST-MODIFIED:20260224T150552Z
UID:8441-1779958800-1779985800@www.dge-niedersachsen.de
SUMMARY:Gesundheit fördern mit Ernährungsbildung | 2026
DESCRIPTION:ONLINE-Seminar\n \nFortbildungsreihe „Ernährung von Kindern in KiTa und Co.“ | Basis-Modul \nZielsetzung\nDie Gesundheit des Kindes ist Voraussetzung für seine Bildung\, Entwicklung und sein Wohlbefinden. Tageseinrichtungen für Kinder sind optimale Orte der Gesundheitsförderung\, da hier die Mehrzahl der Kinder unter 6 Jahren erreicht werden können. Der gemeinsame Essalltag bietet daher vielfältige Gelegenheiten\, ein lebenslanges\, gesundheitsförderndes Essverhalten zu entwickeln. Begleitet durch die pädagogische Arbeit ergeben sich wertvolle Gelegenheiten zur Förderung von Selbstkompetenzen. Die Kinder erwerben motorische\, soziale und kognitive Fähigkeiten und erfahren Selbstwirksamkeit. In diesem Seminar werden praxisorientierte Handlungsempfehlungen für eine ganzheitliche Ernährungsbildung vorgestellt. \nSeminarinhalte\n– Die KiTa als Setting der Gesundheitsförderung\n– Ernährung als Lernfeld im Bildungsplan\n– Förderung des Kohärenzgefühls mittels Essen und Trinken\n– Gesundheit fördern mit Ernährung\n– Praktische Ernährungsbildung im Alltag\n \nMethoden\nVortrag mit Gruppenarbeit\, Übungen \nZielgruppen \nPädagogische Fachkräfte in KiTa\, Krippe und Hort\, Küchen- und Hauswirtschaftsleitungen\, Ernährungsfachkräfte sowie Träger und Multiplikatoren \nReferentin\nDipl. oec. troph. Sonja Pöhls\, DGE NI \nTermin\n28.05.2026\, 09.00 – 16.30 Uhr via ZOOM \nSeminarumfang:\n8 Unterrichtseinheiten (UE) à 45 Minuten \nTeilnehmerzahl\nmax. 20 \nGebühr\nDGE-Mitglieder 140\,00 €\nNicht-Mitglieder 155\,00 € \nIm Preis enthalten sind die Seminarunterlagen. \nPDF Download \nBild: ©Maja Schültingkemper \nJetzt anmeldenWichtige Hinweise \nAnmeldebestätigung und Bescheinigung \nBei Anmeldung wird eine Anmeldebestätigung bzw. die Bestätigung über Aufnahme auf die Warteliste versendet. Erhalten Sie keine Anmeldebestätigung direkt nach dem Abschicken des Online-Formulars\, kontrollieren Sie bitte zunächst Ihren Spam-Ordner. Wenn dort keine Bestätigung eingegangen ist\, schreiben Sie uns zur weiteren Abklärung eine Mail.\nNach erfolgreicher Teilnahme von mind. 80% der Seminardauer erhalten Sie eine Teilnahmebescheinigung mit Angabe der Inhalte und der Anzahl der absolvierten Unterrichtseinheiten per E-Mail. Wir behalten uns vor bei dauerhaft ausgeschalteter Kamera und Nicht-Erreichbarkeit keine Teilnahmebescheinigung auszustellen. Individuelle Absprachen können selbstverständlich getroffen werden. Nach erfolgreicher Teilnahme erhalten Sie eine Teilnahmebescheinigung mit Angabe der Inhalte und der Anzahl der absolvierten Unterrichtseinheiten per E-Mail. \nRechnung\nDie Rechnung erhalten Sie nach dem Seminar von der Verwaltung. Bitte beachten Sie: Dieser Vorgang kann einige Zeit in Anspruch nehmen! Überweisen Sie erst dann die Teilnahmegebühr unter Angabe der Rechnungsnummer. Prüfen Sie die Angaben bei Ihrer Anmeldung zu Titel\, Name und Anschrift\, E-Mail-Adresse sorgfältig auf Fehler und Vollständigkeit. Insbesondere wenn die Rechnung an Ihren Arbeitgeber ausgestellt werden soll ist die Angabe einer korrekten dienstlichen E-Mail-Adresse zwingend erforderlich. Nachträgliche Änderungen und Reklamationen sind sehr zeitintensiv und werden mit 30\,00 € in Rechnung gestellt. \nWartelistenregelung\nWenn ein Seminar ausgebucht ist\, besteht die Möglichkeit\, sich unverbindlich für einen Platz auf der Warteliste anzumelden. Wir benachrichtigen Sie umgehend per E-Mail bei Freiwerden eines Seminarplatzes; kann dieser Platz nicht angenommen werden\, entstehen keine Gebühren. Die Plätze werden in der Reihenfolge des Anmeldedatums vergeben. Die Vergabe erfolgt in der Reihenfolge der Zusagen. \nRücktrittsbedingungen / Ausfall einer Veranstaltung\nBei Rücktritt bis 14 Tage vor Beginn des Seminars wird eine Bearbeitungsgebühr in Höhe von 40\,00 € fällig. Danach ist die Teilnahmegebühr in voller Höhe zu tragen; die Gebühr wird unabhängig vom Grund der Absage fällig. Dieses Risiko kann über eine Reise- oder Seminar-Rücktrittskosten-Versicherung abgesichert werden. In diesem Zeitraum ist die Nennung eines den Zielgruppen entsprechenden Ersatzteilnehmers möglich; eine eigene Anmeldung des\nErsatzteilnehmers ist erforderlich. Sollte die DGE die Veranstaltung absagen müssen\, so besteht Anspruch auf volle Rückerstattung der Teilnahmegebühr. Weitergehende Ansprüche sind ausgeschlossen. Die DGE übernimmt keinerlei Haftung für Personen- und Sachschäden. Weitere Informationen finden Sie auf der DGE-Homepage oder im DGE-Fortbildungsprogramm. \nTechnische Voraussetzungen für Online-Veranstaltungen\nSie benötigen einen PC mit LAN-Zugang\, eine Kamera und ein Mikrofon. Ein Zugang über ein Tablet ist auch möglich\, wir empfehlen jedoch die Teilnahme mit dem Laptop oder Notebook. Online-Seminare finden mit der Videokonferenzsoftware „Zoom“ statt. Weitere ggf. verwendete Tools sind Padlet\, Mentimeter\, Dashboard und Jitsi. \nVerbot von Aufzeichnungen und Veröffentlichungen\nEs gilt das Verbot\, Screenshots oder Aufzeichnungen jedweder Art anzufertigen\, sowie ein Verbot von Veröffentlichung jedweder Inhalte eines Online-Seminars im Internet oder an anderer Stelle. \nDatenschutz\nIhre Daten sind bei uns in sicheren Händen. Die Datenschutzhinweise des Veranstalters finden Sie in den AGBs. \n\nOnline-Fortbildungsreihe „Ernährung von Kinder in Kita und Co.“ \nDie 8-teilige Fortbildungsreihe richtet sich an pädagogische Fachkräfte in KiTa\, Krippe\, Küchenleiter*Innen\, Hauswirtschaftsleiter*Innen\, Ernährungsfachkräfte\, die in diesen Bereichen tätig sind sowie an Träger und Multiplikatoren. Die Module sind einzeln oder als ganzer Block buchbar. Nehmen Sie an den 4 Basis-Modulen und mind. 2 Wahlmodulen teil\, erhalten Sie zum Abschluss ein Zertifikat. Auf den Preis wird dann ein 10%iger Nachlass gewährt werden. \nTermine 2026 \nBasis-Modul 1 | Ein Speiseplan für alle: 14. April\nBasis-Modul 2 | Ernährung für Kinder – mehr als Essen und Trinken: 05.Mai\nBasis-Modul 3 | Gesundheit fördern mit Ernährungsbildung: 28. Mai\nBasis-Modul 4 | Kommunikation für einen gelungenen Essalltag: 15. Juni \nWahl-Modul 1 | Kultursensible Ernährungsbildung: 19. Mai\nWahl-Modul 2 | Starke Kinder – starke Zukunft: Resilienzentwicklung fördern: 08. Juni\nWahl-Modul 3 | Adipöse Kinder und deren Familien: 02. Juni\nWahl-Modul 4 | Vom Suppenkasper und Picky Eatern – Essstörungen im Kindesalter: 23. Juni \n \nOrganisation\nDGE-Sektion Niedersachsen\,\nHildesheimer Straße 24\, 30169 Hannover\nwww.dge-niedersachsen.de \nAnsprechpartnerin\nSonja Pöhls\nTel.: 0511 – 544 1038-4\nE-Mail: poehls@dge.de \nStand: 11/2025 – Terminliche\, inhaltliche und preisliche Änderungen behalten wir uns vor.
URL:https://www.dge-niedersachsen.de/event/ernaehrungsbildung-2026/
LOCATION:Online über Zoom
CATEGORIES:Kita Fortbildungsreihe | Basismodul,Online,Seminar für Ernährungsfachkräfte,Seminare
ATTACH;FMTTYPE=image/jpeg:https://www.dge-niedersachsen.de/wp-content/uploads/2022/01/DSC_9850-scaled.jpg
ORGANIZER;CN="DGE-Sektion Niedersachsen":MAILTO:anmeldung-ni@dge.de
END:VEVENT
END:VCALENDAR