BEGIN:VCALENDAR
VERSION:2.0
PRODID:-//Deutsche Gesellschaft für Ernährung e. V. - ECPv6.15.20//NONSGML v1.0//EN
CALSCALE:GREGORIAN
METHOD:PUBLISH
X-WR-CALNAME:Deutsche Gesellschaft für Ernährung e. V.
X-ORIGINAL-URL:https://www.dge-niedersachsen.de
X-WR-CALDESC:Veranstaltungen für Deutsche Gesellschaft für Ernährung e. V.
REFRESH-INTERVAL;VALUE=DURATION:PT1H
X-Robots-Tag:noindex
X-PUBLISHED-TTL:PT1H
BEGIN:VTIMEZONE
TZID:Europe/Paris
BEGIN:DAYLIGHT
TZOFFSETFROM:+0100
TZOFFSETTO:+0200
TZNAME:CEST
DTSTART:20250330T010000
END:DAYLIGHT
BEGIN:STANDARD
TZOFFSETFROM:+0200
TZOFFSETTO:+0100
TZNAME:CET
DTSTART:20251026T010000
END:STANDARD
BEGIN:DAYLIGHT
TZOFFSETFROM:+0100
TZOFFSETTO:+0200
TZNAME:CEST
DTSTART:20260329T010000
END:DAYLIGHT
BEGIN:STANDARD
TZOFFSETFROM:+0200
TZOFFSETTO:+0100
TZNAME:CET
DTSTART:20261025T010000
END:STANDARD
BEGIN:DAYLIGHT
TZOFFSETFROM:+0100
TZOFFSETTO:+0200
TZNAME:CEST
DTSTART:20270328T010000
END:DAYLIGHT
BEGIN:STANDARD
TZOFFSETFROM:+0200
TZOFFSETTO:+0100
TZNAME:CET
DTSTART:20271031T010000
END:STANDARD
END:VTIMEZONE
BEGIN:VEVENT
DTSTART;TZID=Europe/Paris:20261104T134500
DTEND;TZID=Europe/Paris:20261104T173000
DTSTAMP:20260424T125449
CREATED:20260420T132734Z
LAST-MODIFIED:20260420T132734Z
UID:9822-1793799900-1793813400@www.dge-niedersachsen.de
SUMMARY:30. Nds. Ernährungsforum | Ernährung verbindet:  Prävention\, Public Health\, Notfallvorsorge
DESCRIPTION:ONLINE-Fachtagung \n  \nErnährung verbindet: Prävention\, Public Health\, Notfallvorsorge \nWie können wir Gesundheit in Niedersachsen wirksam fördern – heute und in Zukunft? \nDas 30. Ernährungsforum rückt zentrale Handlungsfelder der Prävention in den Fokus und verbindet aktuelle Public-Health-Ansätze mit konkreten Umsetzungsstrategien. Freuen Sie sich aus interdisziplinären Perspektiven aus Wissenschaft\, Politik und Praxis. \nDie DGE-Sektion Niedersachsen lädt Multiplikatoren\, Multiplikatorinnen und Interessierte aus Ernährung\, Gesundheit\, Public Health\, Bewegung\, Psychologie\, Prävention\, Land- und Hauswirtschaft\, Bildung sowie Politik herzlich zu der Veranstaltung ein. \nProgramm \n13.30 Ankommen \n13.45-14.00\nImpulse zum Start\nCarola Persiel | Nds. Ministerium für Ernährung\, Landwirtschaft und Verbraucherschutz\nPD Dr. Thomas Ellrott | DGE-Sektion NI & IfE \n14.00-14.45\nDer Public Health Index – eine Standortbestimmung für wirksame Präventionspolitik\nProf. Dr. Peter von Philipsborn | Universität Bayreuth \n14.45-15.30\nAm besten null Promille?\nDr. Margrit Richter | DGE e.V.\, Bonn \n15.30 Getränke- und Bewegungspause \n15.50-16.00\nSicherstellen\, was wir essen wollen: Ministerielle Perspektiven\nCarola Persiel | Nds. Ministerium für Ernährung\, Landwirtschaft und Verbraucherschutz \n16.00- 16.30\nAwareness Gaps im Kontext -Ernährungsnotfallvorsorge ausgewählter vulnerabler Gruppen\nProf. Melanie Speck & Murielle Frerk | Hochschule Osnabrück \n16.30-17.00\nKrisensichere Schulverpflegung – planen\, sichern\, umsetzen\nVernetzungsstelle Schulverpflegung DGE\, Niedersachsen \n17.00-17.20\nErnährungsnotfallvorsorge verständlich machen: Wirksame Wege der Verbraucherinformation\nAnneke von Reeken | Verbraucherzentrale Niedersachsen e. V. \n17.20-17.30\nZusammenfassung und Verabschiedung \nFLYER Download \n\n\nTermin\n4.11.2026 13:45-17:30 Uhr via ZOOM \nGebühr: \nkostenfrei\n\n \nOrt: \nONLINE via ZOOM \n\nBild: ©iStock.com/Boris Jovanovic \nJetzt anmelden\nWichtige HinweiseAnmeldebestätigung \nBei Anmeldung wird eine Anmeldebestätigung bzw. die Bestätigung über Aufnahme auf die Warteliste versendet. Erhalten Sie keine Anmeldebestätigung direkt nach dem Abschicken des Online-Formulars\, dann kontrollieren Sie bitte zunächst Ihren Spam-Ordner. Wenn dort keine Bestätigung eingegangen ist\, schreiben Sie uns zur weiteren Abklärung gerne eine Mail.Informationen zur Veranstaltung \nWeitere Informationen wie das Programm oder bei Online-Seminaren die Zugangsdaten bekommen Sie zeitnah vor der Veranstaltung.Datenschutz\nIhre Daten sind bei uns in sicheren Händen. Datenschutzhinweise und Nutzungsbedingungen finden Sie in den AGB.Organisation\nDGE-Sektion Niedersachsen\,\nHildesheimer Straße 24\, 30169 Hannover\nwww.dge-niedersachsen.deAnsprechpartner \nSonja Pöhls\nTel.: 0511 – 544 1038-4\nE-Mail: poehls@dge-niedersachsen.de \nStand: 1/2025 – Terminliche und inhaltliche Änderungen behalten wir uns vor.
URL:https://www.dge-niedersachsen.de/event/30-nds-ernaehrungsforum-ernaehrung-verbindet-praevention-public-health-notfallvorsorge/
LOCATION:Online über Zoom
CATEGORIES:Fachtagungen,Online
ATTACH;FMTTYPE=image/jpeg:https://www.dge-niedersachsen.de/wp-content/uploads/2026/04/iStock.com_Boris-Jovanovic_1271113535.jpg
ORGANIZER;CN="DGE-Sektion Niedersachsen":MAILTO:anmeldung-ni@dge.de
END:VEVENT
END:VCALENDAR